Index of /checkResults/release/bioc-LATEST/MultiDataSet/raw-results

[ICO]NameLast modifiedSizeDescription

[DIR]Parent Directory  -  
[DIR]palomino4/30-Mar-2024 00:37 -  
[DIR]nebbiolo2/30-Mar-2024 00:36 -  
[DIR]merida1/30-Mar-2024 00:37 -  
[DIR]lconway/05-Mar-2024 01:37 -  
[DIR]kunpeng2/03-Nov-2023 00:40 -  
[   ]info.dcf30-Mar-2024 00:35 300