Index of /checkResults/release/bioc-LATEST/MultiBaC/raw-results
Name
Last modified
Size
Description
Parent Directory
-
info.dcf
31-May-2024 00:34
285
palomino3/
23-May-2024 00:35
-
nebbiolo1/
31-May-2024 00:35
-
merida1/
05-Mar-2024 01:39
-
lconway/
31-May-2024 00:35
-
kunpeng2/
10-May-2024 00:41
-