![]() | Name | Last modified | Size | Description |
---|---|---|---|---|
![]() | Parent Directory | - | ||
![]() | buildbin-out.txt | 24-Sep-2023 00:36 | 1.3K | |
![]() | buildbin-summary.dcf | 24-Sep-2023 00:36 | 609 | |
![]() | buildsrc-out.txt | 24-Sep-2023 00:36 | 931 | |
![]() | buildsrc-summary.dcf | 24-Sep-2023 00:36 | 466 | |
![]() | checksrc-out.txt | 24-Sep-2023 00:36 | 3.6K | |
![]() | checksrc-summary.dcf | 24-Sep-2023 00:36 | 496 | |
![]() | install-out.txt | 24-Sep-2023 00:36 | 1.0K | |
![]() | install-summary.dcf | 24-Sep-2023 00:36 | 295 | |