Name | Last modified | Size | Description | |
---|---|---|---|---|
Parent Directory | - | |||
buildbin-summary.dcf | 12-Jun-2024 03:42 | 520 | ||
buildbin-out.txt | 12-Jun-2024 03:42 | 1.1K | ||
checksrc-summary.dcf | 12-Jun-2024 03:42 | 438 | ||
checksrc-out.txt | 12-Jun-2024 03:42 | 3.3K | ||
buildsrc-out.txt | 12-Jun-2024 03:42 | 811 | ||
buildsrc-summary.dcf | 12-Jun-2024 03:42 | 423 | ||
install-out.txt | 12-Jun-2024 03:42 | 1.0K | ||
install-summary.dcf | 12-Jun-2024 03:42 | 266 | ||