Name | Last modified | Size | Description | |
---|---|---|---|---|
Parent Directory | - | |||
buildsrc-out.txt | 17-Jul-2024 06:38 | 865 | ||
buildsrc-summary.dcf | 17-Jul-2024 06:38 | 430 | ||
checksrc-out.txt | 17-Jul-2024 06:38 | 3.8K | ||
checksrc-summary.dcf | 17-Jul-2024 06:38 | 438 | ||
install-out.txt | 17-Jul-2024 06:38 | 1.0K | ||
install-summary.dcf | 17-Jul-2024 06:38 | 268 | ||