Index of /checkResults/release/bioc-LATEST/MsExperiment/raw-results/nebbiolo1

[ICO]NameLast modifiedSizeDescription

[DIR]Parent Directory  -  
[TXT]buildsrc-out.txt22-Jun-2024 06:38 865  
[   ]buildsrc-summary.dcf22-Jun-2024 06:38 430  
[TXT]checksrc-out.txt22-Jun-2024 06:38 3.8K 
[   ]checksrc-summary.dcf22-Jun-2024 06:38 438  
[TXT]install-out.txt22-Jun-2024 06:38 1.0K 
[   ]install-summary.dcf22-Jun-2024 06:38 268