Index of /checkResults/release/bioc-LATEST/MsExperiment/raw-results/kunpeng2
Name
Last modified
Size
Description
Parent Directory
-
buildsrc-summary.dcf
10-May-2024 00:41
353
buildsrc-out.txt
10-May-2024 00:41
1.3K
install-summary.dcf
10-May-2024 00:41
279
install-out.txt
10-May-2024 00:41
1.0K