Name | Last modified | Size | Description | |
---|---|---|---|---|
Parent Directory | - | |||
buildbin-out.txt | 26-Jun-2024 06:43 | 1.2K | ||
buildbin-summary.dcf | 26-Jun-2024 06:43 | 590 | ||
buildsrc-out.txt | 26-Jun-2024 06:43 | 960 | ||
buildsrc-summary.dcf | 26-Jun-2024 06:43 | 457 | ||
checksrc-out.txt | 26-Jun-2024 06:43 | 3.3K | ||
checksrc-summary.dcf | 26-Jun-2024 06:43 | 484 | ||
install-out.txt | 26-Jun-2024 06:43 | 1.0K | ||
install-summary.dcf | 26-Jun-2024 06:43 | 289 | ||