Back to Multiple platform build/check report for BioC 3.14
ABCDEFGHIJKL[M]NOPQRSTUVWXYZ

This page was generated on 2022-01-26 13:06:57 -0500 (Wed, 26 Jan 2022).

HostnameOSArch (*)R versionInstalled pkgs
nebbiolo2Linux (Ubuntu 20.04.4 LTS)x86_644.1.2 (2021-11-01) -- "Bird Hippie" 4329
tokay2Windows Server 2012 R2 Standardx644.1.2 (2021-11-01) -- "Bird Hippie" 4080
machv2macOS 10.14.6 Mojavex86_644.1.2 (2021-11-01) -- "Bird Hippie" 4141
Click on any hostname to see more info about the system (e.g. compilers)      (*) as reported by 'uname -p', except on Windows and Mac OS X

BUILD BIN results for MotifDb on tokay2


To the developers/maintainers of the MotifDb package:
- Please allow up to 24 hours (and sometimes 48 hours) for your latest push to git@git.bioconductor.org:packages/MotifDb.git to
reflect on this report. See How and When does the builder pull? When will my changes propagate? here for more information.
- Make sure to use the following settings in order to reproduce any error or warning you see on this page.

raw results

Package 1202/2083HostnameOS / ArchINSTALLBUILDCHECKBUILD BIN
MotifDb 1.36.0  (landing page)
Paul Shannon
Snapshot Date: 2022-01-25 01:55:07 -0500 (Tue, 25 Jan 2022)
git_url: https://git.bioconductor.org/packages/MotifDb
git_branch: RELEASE_3_14
git_last_commit: 7e45029
git_last_commit_date: 2021-10-26 12:04:11 -0500 (Tue, 26 Oct 2021)
nebbiolo2Linux (Ubuntu 20.04.4 LTS) / x86_64  OK    OK    WARNINGS  UNNEEDED, same version is already published
tokay2Windows Server 2012 R2 Standard / x64  OK    OK    WARNINGS    OK  UNNEEDED, same version is already published
machv2macOS 10.14.6 Mojave / x86_64  OK    OK    WARNINGS    OK  UNNEEDED, same version is already published

Summary

Package: MotifDb
Version: 1.36.0
Command: rm -rf MotifDb.buildbin-libdir && mkdir MotifDb.buildbin-libdir && C:\Users\biocbuild\bbs-3.14-bioc\R\bin\R.exe CMD INSTALL --merge-multiarch --build --library=MotifDb.buildbin-libdir MotifDb_1.36.0.tar.gz
StartedAt: 2022-01-26 06:35:25 -0500 (Wed, 26 Jan 2022)
EndedAt: 2022-01-26 06:36:34 -0500 (Wed, 26 Jan 2022)
EllapsedTime: 69.2 seconds
RetCode: 0
Status:   OK  
PackageFile: MotifDb_1.36.0.zip
PackageFileSize: 3.275 MiB

Command output

##############################################################################
##############################################################################
###
### Running command:
###
###   rm -rf MotifDb.buildbin-libdir && mkdir MotifDb.buildbin-libdir && C:\Users\biocbuild\bbs-3.14-bioc\R\bin\R.exe CMD INSTALL --merge-multiarch --build --library=MotifDb.buildbin-libdir MotifDb_1.36.0.tar.gz
###
##############################################################################
##############################################################################



install for i386

* installing *source* package 'MotifDb' ...
** using staged installation
** R
** inst
** byte-compile and prepare package for lazy loading
** help
*** installing help indices
  converting help for package 'MotifDb'
    finding HTML links ... done
    MotifDb                                 html  
    MotifList-class                         html  
    associateTranscriptionFactors           html  
    export                                  html  
    geneToMotif                             html  
    motifToGene                             html  
    query                                   html  
    subset                                  html  
** building package indices
** installing vignettes
** testing if installed package can be loaded from temporary location
See system.file("LICENSE", package="MotifDb") for use restrictions.
** testing if installed package can be loaded from final location
See system.file("LICENSE", package="MotifDb") for use restrictions.
** testing if installed package keeps a record of temporary installation path

install for x64

* installing *source* package 'MotifDb' ...
** testing if installed package can be loaded
See system.file("LICENSE", package="MotifDb") for use restrictions.
* MD5 sums
packaged installation of 'MotifDb' as MotifDb_1.36.0.zip
* DONE (MotifDb)