Name | Last modified | Size | Description | |
---|---|---|---|---|
Parent Directory | - | |||
install-summary.dcf | 24-Jul-2024 22:06 | 269 | ||
install-out.txt | 24-Jul-2024 22:06 | 1.1K | ||
checksrc-summary.dcf | 24-Jul-2024 22:06 | 450 | ||
checksrc-out.txt | 24-Jul-2024 22:06 | 4.1K | ||
buildsrc-summary.dcf | 24-Jul-2024 22:06 | 428 | ||
buildsrc-out.txt | 24-Jul-2024 22:06 | 968 | ||
buildbin-summary.dcf | 24-Jul-2024 22:06 | 529 | ||
buildbin-out.txt | 24-Jul-2024 22:06 | 1.3K | ||