Index of /checkResults/release/bioc-LATEST/MotifDb/raw-results/lconway

[ICO]NameLast modifiedSizeDescription

[DIR]Parent Directory  -  
[TXT]buildbin-out.txt28-May-2024 00:35 1.3K 
[   ]buildbin-summary.dcf28-May-2024 00:35 530  
[TXT]buildsrc-out.txt28-May-2024 00:35 968  
[   ]buildsrc-summary.dcf28-May-2024 00:35 428  
[TXT]checksrc-out.txt28-May-2024 00:35 4.1K 
[   ]checksrc-summary.dcf28-May-2024 00:35 450  
[TXT]install-out.txt28-May-2024 00:35 1.1K 
[   ]install-summary.dcf28-May-2024 00:35 269