Index of /checkResults/release/bioc-LATEST/Motif2Site/raw-results/palomino4

[ICO]NameLast modifiedSizeDescription

[DIR]Parent Directory  -  
[TXT]buildbin-out.txt01-Mar-2024 01:37 1.1K 
[   ]buildbin-summary.dcf01-Mar-2024 01:37 529  
[TXT]buildsrc-out.txt01-Mar-2024 01:37 890  
[   ]buildsrc-summary.dcf01-Mar-2024 01:37 463  
[TXT]checksrc-out.txt01-Mar-2024 01:37 3.8K 
[   ]checksrc-summary.dcf01-Mar-2024 01:37 457  
[TXT]install-out.txt01-Mar-2024 01:37 971  
[   ]install-summary.dcf01-Mar-2024 01:37 272