Name | Last modified | Size | Description | |
---|---|---|---|---|
Parent Directory | - | |||
install-summary.dcf | 15-Jun-2024 03:37 | 265 | ||
checksrc-summary.dcf | 15-Jun-2024 03:37 | 426 | ||
buildsrc-summary.dcf | 15-Jun-2024 03:37 | 427 | ||
buildsrc-out.txt | 15-Jun-2024 03:37 | 818 | ||
install-out.txt | 15-Jun-2024 03:37 | 1.0K | ||
checksrc-out.txt | 15-Jun-2024 03:37 | 3.6K | ||