Back to Multiple platform build/check report for BioC 3.17: simplified long |
|
This page was generated on 2023-09-23 11:35:10 -0400 (Sat, 23 Sep 2023).
Hostname | OS | Arch (*) | R version | Installed pkgs |
---|---|---|---|---|
nebbiolo1 | Linux (Ubuntu 22.04.2 LTS) | x86_64 | 4.3.1 (2023-06-16) -- "Beagle Scouts" | 4625 |
palomino3 | Windows Server 2022 Datacenter | x64 | 4.3.1 (2023-06-16 ucrt) -- "Beagle Scouts" | 4378 |
merida1 | macOS 12.6.4 Monterey | x86_64 | 4.3.1 (2023-06-16) -- "Beagle Scouts" | 4394 |
Click on any hostname to see more info about the system (e.g. compilers) (*) as reported by 'uname -p', except on Windows and Mac OS X |
Package 1277/2230 | Hostname | OS / Arch | INSTALL | BUILD | CHECK | BUILD BIN | ||||||||
MoonlightR 1.26.1 (landing page) Matteo Tiberti
| nebbiolo1 | Linux (Ubuntu 22.04.2 LTS) / x86_64 | OK | OK | OK | ![]() | ||||||||
palomino3 | Windows Server 2022 Datacenter / x64 | OK | OK | OK | OK | ![]() | ||||||||
merida1 | macOS 12.6.4 Monterey / x86_64 | OK | OK | OK | OK | ![]() | ||||||||
To the developers/maintainers of the MoonlightR package: - Allow up to 24 hours (and sometimes 48 hours) for your latest push to git@git.bioconductor.org:packages/MoonlightR.git to reflect on this report. See Troubleshooting Build Report for more information. - Use the following Renviron settings to reproduce errors and warnings. - If 'R CMD check' started to fail recently on the Linux builder(s) over a missing dependency, add the missing dependency to 'Suggests:' in your DESCRIPTION file. See Renviron.bioc for more information. |
Package: MoonlightR |
Version: 1.26.1 |
Command: /home/biocbuild/bbs-3.17-bioc/R/bin/R CMD check --install=check:MoonlightR.install-out.txt --library=/home/biocbuild/bbs-3.17-bioc/R/site-library --timings MoonlightR_1.26.1.tar.gz |
StartedAt: 2023-09-22 23:21:55 -0400 (Fri, 22 Sep 2023) |
EndedAt: 2023-09-22 23:27:55 -0400 (Fri, 22 Sep 2023) |
EllapsedTime: 360.3 seconds |
RetCode: 0 |
Status: OK |
CheckDir: MoonlightR.Rcheck |
Warnings: 0 |
############################################################################## ############################################################################## ### ### Running command: ### ### /home/biocbuild/bbs-3.17-bioc/R/bin/R CMD check --install=check:MoonlightR.install-out.txt --library=/home/biocbuild/bbs-3.17-bioc/R/site-library --timings MoonlightR_1.26.1.tar.gz ### ############################################################################## ############################################################################## * using log directory ‘/home/biocbuild/bbs-3.17-bioc/meat/MoonlightR.Rcheck’ * using R version 4.3.1 (2023-06-16) * using platform: x86_64-pc-linux-gnu (64-bit) * R was compiled by gcc (Ubuntu 11.3.0-1ubuntu1~22.04.1) 11.3.0 GNU Fortran (Ubuntu 11.3.0-1ubuntu1~22.04.1) 11.3.0 * running under: Ubuntu 22.04.3 LTS * using session charset: UTF-8 * checking for file ‘MoonlightR/DESCRIPTION’ ... OK * checking extension type ... Package * this is package ‘MoonlightR’ version ‘1.26.1’ * package encoding: UTF-8 * checking package namespace information ... OK * checking package dependencies ... OK * checking if this is a source package ... OK * checking if there is a namespace ... OK * checking for hidden files and directories ... OK * checking for portable file names ... OK * checking for sufficient/correct file permissions ... OK * checking whether package ‘MoonlightR’ can be installed ... OK * checking installed package size ... OK * checking package directory ... OK * checking ‘build’ directory ... OK * checking DESCRIPTION meta-information ... OK * checking top-level files ... OK * checking for left-over files ... OK * checking index information ... OK * checking package subdirectories ... OK * checking R files for non-ASCII characters ... OK * checking R files for syntax errors ... OK * checking whether the package can be loaded ... OK * checking whether the package can be loaded with stated dependencies ... OK * checking whether the package can be unloaded cleanly ... OK * checking whether the namespace can be loaded with stated dependencies ... OK * checking whether the namespace can be unloaded cleanly ... OK * checking loading without being on the library search path ... OK * checking dependencies in R code ... OK * checking S3 generic/method consistency ... OK * checking replacement functions ... OK * checking foreign function calls ... OK * checking R code for possible problems ... NOTE getDataTCGA: no visible binding for global variable ‘geneInfoHT’ Undefined global functions or variables: geneInfoHT * checking Rd files ... OK * checking Rd metadata ... OK * checking Rd cross-references ... OK * checking for missing documentation entries ... OK * checking for code/documentation mismatches ... OK * checking Rd \usage sections ... OK * checking Rd contents ... OK * checking for unstated dependencies in examples ... OK * checking contents of ‘data’ directory ... OK * checking data for non-ASCII characters ... OK * checking LazyData ... OK * checking data for ASCII and uncompressed saves ... OK * checking files in ‘vignettes’ ... OK * checking examples ... OK Examples with CPU (user + system) or elapsed time > 5s user system elapsed URA 13.126 0.251 12.109 FEA 10.401 0.246 10.646 plotFEA 5.878 0.092 5.970 * checking for unstated dependencies in vignettes ... OK * checking package vignettes in ‘inst/doc’ ... OK * checking running R code from vignettes ... ‘Moonlight.Rmd’ using ‘UTF-8’... OK NONE * checking re-building of vignette outputs ... OK * checking PDF version of manual ... OK * DONE Status: 1 NOTE See ‘/home/biocbuild/bbs-3.17-bioc/meat/MoonlightR.Rcheck/00check.log’ for details.
MoonlightR.Rcheck/00install.out
############################################################################## ############################################################################## ### ### Running command: ### ### /home/biocbuild/bbs-3.17-bioc/R/bin/R CMD INSTALL MoonlightR ### ############################################################################## ############################################################################## * installing to library ‘/home/biocbuild/bbs-3.17-bioc/R/site-library’ * installing *source* package ‘MoonlightR’ ... ** using staged installation ** R ** data *** moving datasets to lazyload DB ** inst ** byte-compile and prepare package for lazy loading ** help *** installing help indices ** building package indices ** installing vignettes ** testing if installed package can be loaded from temporary location ** testing if installed package can be loaded from final location ** testing if installed package keeps a record of temporary installation path * DONE (MoonlightR)
MoonlightR.Rcheck/MoonlightR-Ex.timings
name | user | system | elapsed | |
DPA | 4.699 | 0.116 | 4.815 | |
FEA | 10.401 | 0.246 | 10.646 | |
GRN | 2.547 | 0.000 | 1.284 | |
GSEA | 0 | 0 | 0 | |
LPA | 0.006 | 0.000 | 0.002 | |
PRA | 0.004 | 0.000 | 0.002 | |
URA | 13.126 | 0.251 | 12.109 | |
getDataGEO | 0.001 | 0.001 | 0.000 | |
getDataTCGA | 0 | 0 | 0 | |
moonlight | 3.506 | 0.099 | 3.606 | |
plotCircos | 0.554 | 0.036 | 0.589 | |
plotFEA | 5.878 | 0.092 | 5.970 | |
plotNetworkHive | 0.078 | 0.000 | 0.079 | |
plotURA | 0.067 | 0.000 | 0.068 | |