Name | Last modified | Size | Description | |
---|---|---|---|---|
Parent Directory | - | |||
buildbin-out.txt | 24-Jul-2024 22:06 | 1.5K | ||
buildbin-summary.dcf | 24-Jul-2024 22:06 | 591 | ||
buildsrc-out.txt | 24-Jul-2024 22:06 | 931 | ||
buildsrc-summary.dcf | 24-Jul-2024 22:06 | 459 | ||
checksrc-out.txt | 24-Jul-2024 22:06 | 4.2K | ||
checksrc-summary.dcf | 24-Jul-2024 22:06 | 491 | ||
install-out.txt | 24-Jul-2024 22:06 | 1.2K | ||
install-summary.dcf | 24-Jul-2024 22:06 | 290 | ||