Index of /checkResults/release/bioc-LATEST/MobilityTransformR/raw-results/kunpeng2

[ICO]NameLast modifiedSizeDescription

[DIR]Parent Directory  -  
[TXT]buildsrc-out.txt03-Nov-2023 00:40 915  
[   ]buildsrc-summary.dcf03-Nov-2023 00:40 442  
[TXT]checksrc-out.txt03-Nov-2023 00:40 4.1K 
[   ]checksrc-summary.dcf03-Nov-2023 00:40 463  
[TXT]install-out.txt03-Nov-2023 00:40 965  
[   ]install-summary.dcf03-Nov-2023 00:40 274