Name | Last modified | Size | Description | |
---|---|---|---|---|
Parent Directory | - | |||
buildbin-summary.dcf | 27-Jul-2024 06:42 | 593 | ||
buildbin-out.txt | 27-Jul-2024 06:42 | 1.5K | ||
checksrc-summary.dcf | 27-Jul-2024 06:42 | 490 | ||
checksrc-out.txt | 27-Jul-2024 06:42 | 4.1K | ||
buildsrc-summary.dcf | 27-Jul-2024 06:42 | 458 | ||
buildsrc-out.txt | 27-Jul-2024 06:42 | 931 | ||
install-summary.dcf | 27-Jul-2024 06:42 | 290 | ||
install-out.txt | 27-Jul-2024 06:42 | 1.2K | ||