Name | Last modified | Size | Description | |
---|---|---|---|---|
Parent Directory | - | |||
buildsrc-out.txt | 10-May-2024 00:41 | 880 | ||
buildsrc-summary.dcf | 10-May-2024 00:41 | 429 | ||
checksrc-out.txt | 10-May-2024 00:41 | 37K | ||
checksrc-summary.dcf | 10-May-2024 00:41 | 457 | ||
install-out.txt | 10-May-2024 00:41 | 1.0K | ||
install-summary.dcf | 10-May-2024 00:41 | 270 | ||