Name | Last modified | Size | Description | |
---|---|---|---|---|
Parent Directory | - | |||
checksrc-out.txt | 12-Jun-2024 03:44 | 37K | ||
buildbin-out.txt | 12-Jun-2024 03:44 | 1.2K | ||
install-out.txt | 12-Jun-2024 03:44 | 1.0K | ||
buildsrc-out.txt | 12-Jun-2024 03:44 | 879 | ||
buildbin-summary.dcf | 12-Jun-2024 03:44 | 529 | ||
checksrc-summary.dcf | 12-Jun-2024 03:44 | 450 | ||
buildsrc-summary.dcf | 12-Jun-2024 03:44 | 428 | ||
install-summary.dcf | 12-Jun-2024 03:44 | 269 | ||