Name | Last modified | Size | Description | |
---|---|---|---|---|
Parent Directory | - | |||
install-out.txt | 17-Jul-2024 06:41 | 1.0K | ||
install-summary.dcf | 17-Jul-2024 06:41 | 291 | ||
buildsrc-out.txt | 17-Jul-2024 06:41 | 923 | ||
buildsrc-summary.dcf | 17-Jul-2024 06:41 | 459 | ||
checksrc-out.txt | 17-Jul-2024 06:41 | 3.3K | ||
checksrc-summary.dcf | 17-Jul-2024 06:41 | 488 | ||
buildbin-out.txt | 17-Jul-2024 06:41 | 1.2K | ||
buildbin-summary.dcf | 17-Jul-2024 06:41 | 595 | ||