Name | Last modified | Size | Description | |
---|---|---|---|---|
Parent Directory | - | |||
buildbin-summary.dcf | 17-Jul-2024 06:42 | 595 | ||
buildbin-out.txt | 17-Jul-2024 06:42 | 1.2K | ||
checksrc-summary.dcf | 17-Jul-2024 06:42 | 488 | ||
checksrc-out.txt | 17-Jul-2024 06:42 | 3.3K | ||
buildsrc-summary.dcf | 17-Jul-2024 06:42 | 460 | ||
buildsrc-out.txt | 17-Jul-2024 06:42 | 923 | ||
install-summary.dcf | 17-Jul-2024 06:42 | 291 | ||
install-out.txt | 17-Jul-2024 06:42 | 1.0K | ||