Name | Last modified | Size | Description | |
---|---|---|---|---|
Parent Directory | - | |||
buildbin-out.txt | 05-Mar-2024 01:39 | 1.1K | ||
buildbin-summary.dcf | 05-Mar-2024 01:39 | 524 | ||
buildsrc-out.txt | 05-Mar-2024 01:39 | 875 | ||
buildsrc-summary.dcf | 05-Mar-2024 01:39 | 425 | ||
checksrc-out.txt | 05-Mar-2024 01:39 | 8.2K | ||
checksrc-summary.dcf | 05-Mar-2024 01:39 | 446 | ||
install-out.txt | 05-Mar-2024 01:39 | 1.0K | ||
install-summary.dcf | 05-Mar-2024 01:39 | 267 | ||