Index of /checkResults/release/bioc-LATEST/MiRaGE/raw-results/lconway

[ICO]NameLast modifiedSizeDescription

[DIR]Parent Directory  -  
[TXT]checksrc-out.txt23-May-2024 00:36 1.5K 
[TXT]buildbin-out.txt23-May-2024 00:36 1.1K 
[TXT]install-out.txt23-May-2024 00:36 1.0K 
[TXT]buildsrc-out.txt23-May-2024 00:36 875  
[   ]buildbin-summary.dcf23-May-2024 00:36 524  
[   ]checksrc-summary.dcf23-May-2024 00:36 442  
[   ]buildsrc-summary.dcf23-May-2024 00:36 424  
[   ]install-summary.dcf23-May-2024 00:36 267