Index of /checkResults/release/bioc-LATEST/MiPP/raw-results/nebbiolo1

[ICO]NameLast modifiedSizeDescription

[DIR]Parent Directory  -  
[TXT]buildsrc-out.txt02-Jul-2022 01:05 857  
[   ]buildsrc-summary.dcf02-Jul-2022 01:05 407  
[TXT]checksrc-out.txt02-Jul-2022 01:05 3.3K 
[   ]checksrc-summary.dcf02-Jul-2022 01:05 411  
[TXT]install-out.txt02-Jul-2022 01:05 938  
[   ]install-summary.dcf02-Jul-2022 01:05 252