Index of /checkResults/release/bioc-LATEST/Metab/raw-results/merida1
Name
Last modified
Size
Description
Parent Directory
-
buildsrc-out.txt
30-Mar-2024 00:37
2.9K
buildsrc-summary.dcf
30-Mar-2024 00:37
340
install-out.txt
30-Mar-2024 00:37
1.1K
install-summary.dcf
30-Mar-2024 00:37
265