Name | Last modified | Size | Description | |
---|---|---|---|---|
Parent Directory | - | |||
install-summary.dcf | 27-Jul-2024 06:39 | 266 | ||
install-out.txt | 27-Jul-2024 06:39 | 1.5K | ||
checksrc-summary.dcf | 27-Jul-2024 06:39 | 449 | ||
checksrc-out.txt | 27-Jul-2024 06:39 | 7.5K | ||
buildsrc-summary.dcf | 27-Jul-2024 06:39 | 448 | ||
buildsrc-out.txt | 27-Jul-2024 06:39 | 871 | ||
buildbin-summary.dcf | 27-Jul-2024 06:39 | 509 | ||
buildbin-out.txt | 27-Jul-2024 06:39 | 1.6K | ||