Back to Multiple platform build/check report for BioC 3.16
ABCDEFGHIJKL[M]NOPQRSTUVWXYZ

This page was generated on 2023-01-28 11:07:00 -0500 (Sat, 28 Jan 2023).

HostnameOSArch (*)R versionInstalled pkgs
nebbiolo2Linux (Ubuntu 20.04.5 LTS)x86_644.2.2 (2022-10-31) -- "Innocent and Trusting" 4510
palomino4Windows Server 2022 Datacenterx644.2.2 (2022-10-31 ucrt) -- "Innocent and Trusting" 4288
lconwaymacOS 12.5.1 Montereyx86_644.2.2 (2022-10-31) -- "Innocent and Trusting" 4317
Click on any hostname to see more info about the system (e.g. compilers)      (*) as reported by 'uname -p', except on Windows and Mac OS X

BUILD BIN results for MesKit on palomino4


To the developers/maintainers of the MesKit package:
- Please allow up to 24 hours (and sometimes 48 hours) for your latest push to git@git.bioconductor.org:packages/MesKit.git to
reflect on this report. See How and When does the builder pull? When will my changes propagate? for more information.
- Make sure to use the following settings in order to reproduce any error or warning you see on this page.

raw results

Package 1136/2183HostnameOS / ArchINSTALLBUILDCHECKBUILD BIN
MesKit 1.8.0  (landing page)
Mengni Liu
Snapshot Date: 2023-01-27 14:00:04 -0500 (Fri, 27 Jan 2023)
git_url: https://git.bioconductor.org/packages/MesKit
git_branch: RELEASE_3_16
git_last_commit: f2c7a2f
git_last_commit_date: 2022-11-01 11:22:30 -0500 (Tue, 01 Nov 2022)
nebbiolo2Linux (Ubuntu 20.04.5 LTS) / x86_64  OK    OK    WARNINGS  UNNEEDED, same version is already published
palomino4Windows Server 2022 Datacenter / x64  OK    OK    WARNINGS    OK  UNNEEDED, same version is already published
lconwaymacOS 12.5.1 Monterey / x86_64  OK    OK    WARNINGS    OK  UNNEEDED, same version is already published

Summary

Package: MesKit
Version: 1.8.0
Command: rm -rf MesKit.buildbin-libdir && mkdir MesKit.buildbin-libdir && F:\biocbuild\bbs-3.16-bioc\R\bin\R.exe CMD INSTALL --build --library=MesKit.buildbin-libdir MesKit_1.8.0.tar.gz
StartedAt: 2023-01-28 08:43:15 -0500 (Sat, 28 Jan 2023)
EndedAt: 2023-01-28 08:43:58 -0500 (Sat, 28 Jan 2023)
EllapsedTime: 43.0 seconds
RetCode: 0
Status:   OK  
PackageFile: MesKit_1.8.0.zip
PackageFileSize: 2.632 MiB

Command output

##############################################################################
##############################################################################
###
### Running command:
###
###   rm -rf MesKit.buildbin-libdir && mkdir MesKit.buildbin-libdir && F:\biocbuild\bbs-3.16-bioc\R\bin\R.exe CMD INSTALL --build --library=MesKit.buildbin-libdir MesKit_1.8.0.tar.gz
###
##############################################################################
##############################################################################


* installing *source* package 'MesKit' ...
** using staged installation
** R
** inst
** byte-compile and prepare package for lazy loading
Warning: replacing previous import 'ape::degree' by 'circlize::degree' when loading 'MesKit'
** help
*** installing help indices
** building package indices
** installing vignettes
** testing if installed package can be loaded from temporary location
Warning: replacing previous import 'ape::degree' by 'circlize::degree' when loading 'MesKit'
** testing if installed package can be loaded from final location
Warning: replacing previous import 'ape::degree' by 'circlize::degree' when loading 'MesKit'
** testing if installed package keeps a record of temporary installation path
* MD5 sums
packaged installation of 'MesKit' as MesKit_1.8.0.zip
* DONE (MesKit)