Index of /checkResults/release/bioc-LATEST/MatrixRider/raw-results/palomino4

[ICO]NameLast modifiedSizeDescription

[DIR]Parent Directory  -  
[TXT]buildbin-out.txt23-Feb-2024 01:36 4.1K 
[   ]buildbin-summary.dcf23-Feb-2024 01:36 539  
[TXT]buildsrc-out.txt23-Feb-2024 01:36 891  
[   ]buildsrc-summary.dcf23-Feb-2024 01:36 468  
[TXT]checksrc-out.txt23-Feb-2024 01:36 3.9K 
[   ]checksrc-summary.dcf23-Feb-2024 01:36 463  
[TXT]install-out.txt23-Feb-2024 01:36 3.9K 
[   ]install-summary.dcf23-Feb-2024 01:36 276