Name | Last modified | Size | Description | |
---|---|---|---|---|
Parent Directory | - | |||
install-summary.dcf | 05-Mar-2024 01:39 | 277 | ||
install-out.txt | 05-Mar-2024 01:39 | 4.9K | ||
checksrc-summary.dcf | 05-Mar-2024 01:39 | 466 | ||
checksrc-out.txt | 05-Mar-2024 01:39 | 4.1K | ||
buildsrc-summary.dcf | 05-Mar-2024 01:39 | 440 | ||
buildsrc-out.txt | 05-Mar-2024 01:39 | 862 | ||
buildbin-summary.dcf | 05-Mar-2024 01:39 | 554 | ||
buildbin-out.txt | 05-Mar-2024 01:39 | 6.8K | ||