Index of /checkResults/release/bioc-LATEST/MatrixRider/raw-results/lconway

[ICO]NameLast modifiedSizeDescription

[DIR]Parent Directory  -  
[TXT]buildbin-out.txt05-Mar-2024 01:37 6.8K 
[   ]buildbin-summary.dcf05-Mar-2024 01:37 554  
[TXT]buildsrc-out.txt05-Mar-2024 01:37 862  
[   ]buildsrc-summary.dcf05-Mar-2024 01:37 439  
[TXT]checksrc-out.txt05-Mar-2024 01:37 4.2K 
[   ]checksrc-summary.dcf05-Mar-2024 01:37 466  
[TXT]install-out.txt05-Mar-2024 01:37 4.9K 
[   ]install-summary.dcf05-Mar-2024 01:37 277