Index of /checkResults/release/bioc-LATEST/MatrixRider/raw-results/kunpeng2

[ICO]NameLast modifiedSizeDescription

[DIR]Parent Directory  -  
[TXT]buildsrc-out.txt03-Nov-2023 00:40 846  
[   ]buildsrc-summary.dcf03-Nov-2023 00:40 423  
[TXT]checksrc-out.txt03-Nov-2023 00:40 4.0K 
[   ]checksrc-summary.dcf03-Nov-2023 00:40 439  
[TXT]install-out.txt03-Nov-2023 00:40 3.5K 
[   ]install-summary.dcf03-Nov-2023 00:40 261