Index of /checkResults/release/bioc-LATEST/Macarron/raw-results/nebbiolo1

[ICO]NameLast modifiedSizeDescription

[DIR]Parent Directory  -  
[TXT]buildsrc-out.txt20-Jul-2024 06:37 809  
[   ]buildsrc-summary.dcf20-Jul-2024 06:37 419  
[TXT]checksrc-out.txt20-Jul-2024 06:37 5.9K 
[   ]checksrc-summary.dcf20-Jul-2024 06:37 423  
[TXT]install-out.txt20-Jul-2024 06:37 955  
[   ]install-summary.dcf20-Jul-2024 06:37 260