Name | Last modified | Size | Description | |
---|---|---|---|---|
Parent Directory | - | |||
install-summary.dcf | 24-Jul-2024 22:04 | 270 | ||
install-out.txt | 24-Jul-2024 22:04 | 1.2K | ||
checksrc-summary.dcf | 24-Jul-2024 22:04 | 451 | ||
checksrc-out.txt | 24-Jul-2024 22:04 | 3.4K | ||
buildsrc-summary.dcf | 24-Jul-2024 22:04 | 457 | ||
buildsrc-out.txt | 24-Jul-2024 22:04 | 881 | ||
buildbin-summary.dcf | 24-Jul-2024 22:04 | 521 | ||
buildbin-out.txt | 24-Jul-2024 22:04 | 1.4K | ||