Index of /checkResults/release/bioc-LATEST/Maaslin2/raw-results/palomino3

[ICO]NameLast modifiedSizeDescription

[DIR]Parent Directory  -  
[TXT]buildbin-out.txt15-Jun-2024 03:38 1.1K 
[   ]buildbin-summary.dcf15-Jun-2024 03:38 521  
[TXT]buildsrc-out.txt15-Jun-2024 03:38 881  
[   ]buildsrc-summary.dcf15-Jun-2024 03:38 457  
[TXT]checksrc-out.txt15-Jun-2024 03:38 3.4K 
[   ]checksrc-summary.dcf15-Jun-2024 03:38 451  
[TXT]install-out.txt15-Jun-2024 03:38 965  
[   ]install-summary.dcf15-Jun-2024 03:38 270