Name | Last modified | Size | Description | |
---|---|---|---|---|
Parent Directory | - | |||
checksrc-summary.dcf | 24-Jul-2024 22:03 | 418 | ||
checksrc-out.txt | 24-Jul-2024 22:03 | 3.4K | ||
buildsrc-summary.dcf | 24-Jul-2024 22:03 | 420 | ||
buildsrc-out.txt | 24-Jul-2024 22:03 | 850 | ||
install-summary.dcf | 24-Jul-2024 22:03 | 260 | ||
install-out.txt | 24-Jul-2024 22:03 | 955 | ||