Name | Last modified | Size | Description | |
---|---|---|---|---|
Parent Directory | - | |||
install-summary.dcf | 24-Jul-2024 22:06 | 271 | ||
install-out.txt | 24-Jul-2024 22:06 | 1.2K | ||
checksrc-summary.dcf | 24-Jul-2024 22:06 | 448 | ||
checksrc-out.txt | 24-Jul-2024 22:06 | 3.4K | ||
buildsrc-summary.dcf | 24-Jul-2024 22:06 | 431 | ||
buildsrc-out.txt | 24-Jul-2024 22:06 | 860 | ||
buildbin-summary.dcf | 24-Jul-2024 22:06 | 536 | ||
buildbin-out.txt | 24-Jul-2024 22:06 | 1.4K | ||