Index of /checkResults/release/bioc-LATEST/Maaslin2/raw-results/kjohnson3

[ICO]NameLast modifiedSizeDescription

[DIR]Parent Directory  -  
[TXT]buildbin-out.txt12-Jun-2024 03:43 1.2K 
[   ]buildbin-summary.dcf12-Jun-2024 03:43 536  
[TXT]buildsrc-out.txt12-Jun-2024 03:43 860  
[   ]buildsrc-summary.dcf12-Jun-2024 03:43 431  
[TXT]checksrc-out.txt12-Jun-2024 03:43 3.4K 
[   ]checksrc-summary.dcf12-Jun-2024 03:43 448  
[TXT]install-out.txt12-Jun-2024 03:43 1.0K 
[   ]install-summary.dcf12-Jun-2024 03:43 271