Back to Multiple platform build/check report for BioC 3.12
ABCDEFGHIJKL[M]NOPQRSTUVWXYZ

Multiple platform build/check report for BioC 3.12

Results for package MSstatsTMT

This page was generated on 2021-03-02 12:11:58 -0500 (Tue, 02 Mar 2021).

Package 1171/1974HostnameOS / ArchINSTALLBUILDCHECKBUILD BIN
MSstatsTMT 1.8.2
Ting Huang
Snapshot Date: 2021-03-01 14:52:38 -0500 (Mon, 01 Mar 2021)
URL: https://git.bioconductor.org/packages/MSstatsTMT
Branch: RELEASE_3_12
Last Commit: 5c9e714
Last Changed Date: 2020-12-20 23:47:37 -0500 (Sun, 20 Dec 2020)
malbec1Linux (Ubuntu 18.04.5 LTS) / x86_64  OK    OK    OK  UNNEEDED, same version exists in internal repository
nebbiolo1Linux (Ubuntu 20.04.2 LTS) / x86_64  OK    OK    OK  
tokay1Windows Server 2012 R2 Standard / x64  OK    OK    OK    OK  UNNEEDED, same version exists in internal repository
merida1macOS 10.14.6 Mojave / x86_64  OK    OK    OK    OK  UNNEEDED, same version exists in internal repository