Name | Last modified | Size | Description | |
---|---|---|---|---|
Parent Directory | - | |||
install-summary.dcf | 15-Jun-2024 03:37 | 268 | ||
install-out.txt | 15-Jun-2024 03:37 | 5.4K | ||
checksrc-summary.dcf | 15-Jun-2024 03:37 | 438 | ||
checksrc-out.txt | 15-Jun-2024 03:37 | 7.9K | ||
buildsrc-summary.dcf | 15-Jun-2024 03:37 | 429 | ||
buildsrc-out.txt | 15-Jun-2024 03:37 | 888 | ||