Name | Last modified | Size | Description | |
---|---|---|---|---|
Parent Directory | - | |||
install-out.txt | 10-May-2024 00:41 | 5.5K | ||
install-summary.dcf | 10-May-2024 00:41 | 279 | ||
buildsrc-out.txt | 10-May-2024 00:41 | 899 | ||
buildsrc-summary.dcf | 10-May-2024 00:41 | 441 | ||
checksrc-out.txt | 10-May-2024 00:41 | 8.1K | ||
checksrc-summary.dcf | 10-May-2024 00:41 | 475 | ||