Back to Multiple platform build/check report for BioC 3.16
ABCDEFGHIJKL[M]NOPQRSTUVWXYZ

This page was generated on 2023-02-01 11:07:21 -0500 (Wed, 01 Feb 2023).

HostnameOSArch (*)R versionInstalled pkgs
nebbiolo2Linux (Ubuntu 20.04.5 LTS)x86_644.2.2 (2022-10-31) -- "Innocent and Trusting" 4511
palomino4Windows Server 2022 Datacenterx644.2.2 (2022-10-31 ucrt) -- "Innocent and Trusting" 4289
lconwaymacOS 12.5.1 Montereyx86_644.2.2 (2022-10-31) -- "Innocent and Trusting" 4318
Click on any hostname to see more info about the system (e.g. compilers)      (*) as reported by 'uname -p', except on Windows and Mac OS X

BUILD results for MSstats on palomino4


To the developers/maintainers of the MSstats package:
- Please allow up to 24 hours (and sometimes 48 hours) for your latest push to git@git.bioconductor.org:packages/MSstats.git to
reflect on this report. See How and When does the builder pull? When will my changes propagate? for more information.
- Make sure to use the following settings in order to reproduce any error or warning you see on this page.

raw results

Package 1283/2183HostnameOS / ArchINSTALLBUILDCHECKBUILD BIN
MSstats 4.6.3  (landing page)
Meena Choi
Snapshot Date: 2023-01-31 14:00:04 -0500 (Tue, 31 Jan 2023)
git_url: https://git.bioconductor.org/packages/MSstats
git_branch: RELEASE_3_16
git_last_commit: 09ea26d
git_last_commit_date: 2023-01-19 11:17:42 -0500 (Thu, 19 Jan 2023)
nebbiolo2Linux (Ubuntu 20.04.5 LTS) / x86_64  OK    OK    OK  UNNEEDED, same version is already published
palomino4Windows Server 2022 Datacenter / x64  OK    OK    OK    OK  UNNEEDED, same version is already published
lconwaymacOS 12.5.1 Monterey / x86_64  OK    OK    OK    OK  UNNEEDED, same version is already published

Summary

Package: MSstats
Version: 4.6.3
Command: chmod a+r MSstats -R && F:\biocbuild\bbs-3.16-bioc\R\bin\R.exe CMD build --keep-empty-dirs --no-resave-data MSstats
StartedAt: 2023-01-31 20:09:02 -0500 (Tue, 31 Jan 2023)
EndedAt: 2023-01-31 20:10:22 -0500 (Tue, 31 Jan 2023)
EllapsedTime: 80.3 seconds
RetCode: 0
Status:   OK  
PackageFile: MSstats_4.6.3.tar.gz
PackageFileSize: 184.6 KiB

Command output

##############################################################################
##############################################################################
###
### Running command:
###
###   chmod a+r MSstats -R && F:\biocbuild\bbs-3.16-bioc\R\bin\R.exe CMD build --keep-empty-dirs --no-resave-data MSstats
###
##############################################################################
##############################################################################


* checking for file 'MSstats/DESCRIPTION' ... OK
* preparing 'MSstats':
* checking DESCRIPTION meta-information ... OK
* cleaning src
* installing the package to build vignettes
* creating vignettes ... OK
* cleaning src
* checking for LF line-endings in source and make files and shell scripts
* checking for empty or unneeded directories
* building 'MSstats_4.6.3.tar.gz'