Name | Last modified | Size | Description | |
---|---|---|---|---|
Parent Directory | - | |||
install-summary.dcf | 05-May-2024 00:39 | 269 | ||
buildsrc-summary.dcf | 05-May-2024 00:39 | 428 | ||
checksrc-summary.dcf | 05-May-2024 00:39 | 445 | ||
buildbin-summary.dcf | 05-May-2024 00:39 | 531 | ||
buildsrc-out.txt | 05-May-2024 00:39 | 846 | ||
install-out.txt | 05-May-2024 00:39 | 4.8K | ||
checksrc-out.txt | 05-May-2024 00:39 | 5.0K | ||
buildbin-out.txt | 05-May-2024 00:39 | 6.8K | ||