Index of /checkResults/release/bioc-LATEST/MSnID/raw-results/lconway

[ICO]NameLast modifiedSizeDescription

[DIR]Parent Directory  -  
[TXT]buildbin-out.txt29-Jan-2023 01:08 1.2K 
[   ]buildbin-summary.dcf29-Jan-2023 01:08 517  
[TXT]buildsrc-out.txt29-Jan-2023 01:08 808  
[   ]buildsrc-summary.dcf29-Jan-2023 01:08 422  
[TXT]checksrc-out.txt29-Jan-2023 01:08 3.9K 
[   ]checksrc-summary.dcf29-Jan-2023 01:08 436  
[TXT]install-out.txt29-Jan-2023 01:08 1.0K 
[   ]install-summary.dcf29-Jan-2023 01:08 265