Name | Last modified | Size | Description | |
---|---|---|---|---|
Parent Directory | - | |||
checksrc-out.txt | 12-Jun-2024 03:44 | 4.5K | ||
buildbin-out.txt | 12-Jun-2024 03:44 | 1.2K | ||
install-out.txt | 12-Jun-2024 03:44 | 1.0K | ||
buildsrc-out.txt | 12-Jun-2024 03:44 | 808 | ||
buildbin-summary.dcf | 12-Jun-2024 03:44 | 518 | ||
checksrc-summary.dcf | 12-Jun-2024 03:44 | 440 | ||
buildsrc-summary.dcf | 12-Jun-2024 03:44 | 422 | ||
install-summary.dcf | 12-Jun-2024 03:44 | 265 | ||