Name | Last modified | Size | Description | |
---|---|---|---|---|
Parent Directory | - | |||
checksrc-out.txt | 27-Jul-2024 06:42 | 4.5K | ||
buildbin-out.txt | 27-Jul-2024 06:42 | 1.2K | ||
install-out.txt | 27-Jul-2024 06:42 | 1.0K | ||
buildsrc-out.txt | 27-Jul-2024 06:42 | 808 | ||
buildbin-summary.dcf | 27-Jul-2024 06:42 | 518 | ||
checksrc-summary.dcf | 27-Jul-2024 06:42 | 440 | ||
buildsrc-summary.dcf | 27-Jul-2024 06:42 | 422 | ||
install-summary.dcf | 27-Jul-2024 06:42 | 265 | ||