Back to Multiple platform build/check report for BioC 3.14
ABCDEFGHIJKL[M]NOPQRSTUVWXYZ

This page was generated on 2021-12-06 13:06:05 -0500 (Mon, 06 Dec 2021).

BUILD BIN results for MSnID on machv2

To the developers/maintainers of the MSnID package:
- Please allow up to 24 hours (and sometimes 48 hours) for your latest push to git@git.bioconductor.org:packages/MSnID.git to
reflect on this report. See How and When does the builder pull? When will my changes propagate? here for more information.
- Make sure to use the following settings in order to reproduce any error or warning you see on this page.

raw results

Package 1223/2083HostnameOS / ArchINSTALLBUILDCHECKBUILD BIN
MSnID 1.28.0  (landing page)
Vlad Petyuk
Snapshot Date: 2021-12-05 01:55:05 -0500 (Sun, 05 Dec 2021)
git_url: https://git.bioconductor.org/packages/MSnID
git_branch: RELEASE_3_14
git_last_commit: 0e6de89
git_last_commit_date: 2021-10-26 12:16:01 -0500 (Tue, 26 Oct 2021)
nebbiolo2Linux (Ubuntu 20.04.3 LTS) / x86_64  OK    OK    OK  UNNEEDED, same version is already published
tokay2Windows Server 2012 R2 Standard / x64  OK    OK    OK    OK  UNNEEDED, same version is already published
machv2macOS 10.14.6 Mojave / x86_64  OK    OK    OK    OK  UNNEEDED, same version is already published

Summary

Package: MSnID
Version: 1.28.0
Command: rm -rf MSnID.buildbin-libdir && mkdir MSnID.buildbin-libdir && /Users/biocbuild/BBS/utils/build-universal.sh MSnID_1.28.0.tar.gz /Library/Frameworks/R.framework/Resources/bin/R MSnID.buildbin-libdir
StartedAt: 2021-12-05 22:59:47 -0500 (Sun, 05 Dec 2021)
EndedAt: 2021-12-05 23:00:56 -0500 (Sun, 05 Dec 2021)
EllapsedTime: 68.8 seconds
RetCode: 0
Status:   OK  
PackageFile: MSnID_1.28.0.tgz
PackageFileSize: 3.927 MiB

Command output

##############################################################################
##############################################################################
###
### Running command:
###
###   rm -rf MSnID.buildbin-libdir && mkdir MSnID.buildbin-libdir && /Users/biocbuild/BBS/utils/build-universal.sh MSnID_1.28.0.tar.gz /Library/Frameworks/R.framework/Resources/bin/R MSnID.buildbin-libdir
###
##############################################################################
##############################################################################


>>>>>>> 
>>>>>>> INSTALLATION WITH 'R CMD INSTALL --preclean --no-multiarch --library=MSnID.buildbin-libdir MSnID_1.28.0.tar.gz'
>>>>>>> 

* installing *source* package ‘MSnID’ ...
** using staged installation
** R
** data
*** moving datasets to lazyload DB
** demo
** inst
** byte-compile and prepare package for lazy loading
** help
*** installing help indices
** building package indices
** installing vignettes
** testing if installed package can be loaded from temporary location
** testing if installed package can be loaded from final location
** testing if installed package keeps a record of temporary installation path
* DONE (MSnID)