Back to Multiple platform build/check report for BioC 3.14
ABCDEFGHIJKL[M]NOPQRSTUVWXYZ

This page was generated on 2021-11-29 15:05:30 -0500 (Mon, 29 Nov 2021).

INSTALL results for MSGFgui on tokay2

To the developers/maintainers of the MSGFgui package:
- Please allow up to 24 hours (and sometimes 48 hours) for your latest push to git@git.bioconductor.org:packages/MSGFgui.git to
reflect on this report. See How and When does the builder pull? When will my changes propagate? here for more information.
- Make sure to use the following settings in order to reproduce any error or warning you see on this page.

raw results

Package 1217/2083HostnameOS / ArchINSTALLBUILDCHECKBUILD BIN
MSGFgui 1.28.0  (landing page)
Thomas Lin Pedersen
Snapshot Date: 2021-11-28 04:15:06 -0500 (Sun, 28 Nov 2021)
git_url: https://git.bioconductor.org/packages/MSGFgui
git_branch: RELEASE_3_14
git_last_commit: 2725a95
git_last_commit_date: 2021-10-26 12:16:30 -0500 (Tue, 26 Oct 2021)
nebbiolo2Linux (Ubuntu 20.04.3 LTS) / x86_64  OK    OK    WARNINGS  UNNEEDED, same version is already published
tokay2Windows Server 2012 R2 Standard / x64  OK    OK    WARNINGS    OK  UNNEEDED, same version is already published
machv2macOS 10.14.6 Mojave / x86_64  ERROR    ERROR  skippedskipped

Summary

Package: MSGFgui
Version: 1.28.0
Command: C:\Users\biocbuild\bbs-3.14-bioc\R\bin\R.exe --arch x64 CMD INSTALL --no-multiarch MSGFgui
StartedAt: 2021-11-28 06:52:46 -0500 (Sun, 28 Nov 2021)
EndedAt: 2021-11-28 06:53:54 -0500 (Sun, 28 Nov 2021)
EllapsedTime: 68.1 seconds
RetCode: 0
Status:   OK  

Command output

##############################################################################
##############################################################################
###
### Running command:
###
###   C:\Users\biocbuild\bbs-3.14-bioc\R\bin\R.exe --arch x64 CMD INSTALL --no-multiarch MSGFgui
###
##############################################################################
##############################################################################


* installing to library 'C:/Users/biocbuild/bbs-3.14-bioc/R/library'
* installing *source* package 'MSGFgui' ...
** using staged installation
** R
** inst
** byte-compile and prepare package for lazy loading
** help
*** installing help indices
  converting help for package 'MSGFgui'
    finding HTML links ... done
    MSGFgui-package                         html  
    MSGFgui                                 html  
    currentData                             html  
** building package indices
** installing vignettes
** testing if installed package can be loaded from temporary location
Warning: Package 'MSGFgui' is deprecated and will be removed from Bioconductor
  version 3.15
** testing if installed package can be loaded from final location
Warning: Package 'MSGFgui' is deprecated and will be removed from Bioconductor
  version 3.15
** testing if installed package keeps a record of temporary installation path
* DONE (MSGFgui)
Making 'packages.html' ... done