Name | Last modified | Size | Description | |
---|---|---|---|---|
Parent Directory | - | |||
install-summary.dcf | 10-May-2024 00:41 | 273 | ||
install-out.txt | 10-May-2024 00:41 | 1.0K | ||
checksrc-summary.dcf | 18-Feb-2024 16:30 | 461 | ||
checksrc-out.txt | 18-Feb-2024 16:30 | 3.7K | ||
buildsrc-summary.dcf | 10-May-2024 00:41 | 348 | ||
buildsrc-out.txt | 10-May-2024 00:41 | 1.1K | ||