Index of /checkResults/release/bioc-LATEST/MQmetrics/raw-results/kjohnson1
Name
Last modified
Size
Description
Parent Directory
-
buildsrc-out.txt
29-Jun-2024 06:45
1.1K
buildsrc-summary.dcf
29-Jun-2024 06:45
347
install-out.txt
29-Jun-2024 06:45
1.0K
install-summary.dcf
29-Jun-2024 06:45
272