Back to Multiple platform build/check report for BioC 3.16:   simplified   long
ABCDEFGHIJKL[M]NOPQRSTUVWXYZ

This page was generated on 2023-03-20 11:05:37 -0400 (Mon, 20 Mar 2023).

HostnameOSArch (*)R versionInstalled pkgs
nebbiolo2Linux (Ubuntu 20.04.5 LTS)x86_644.2.2 (2022-10-31) -- "Innocent and Trusting" 4516
palomino4Windows Server 2022 Datacenterx644.2.2 (2022-10-31 ucrt) -- "Innocent and Trusting" 4295
lconwaymacOS 12.5.1 Montereyx86_644.2.2 (2022-10-31) -- "Innocent and Trusting" 4324
Click on any hostname to see more info about the system (e.g. compilers)      (*) as reported by 'uname -p', except on Windows and Mac OS X

CHECK results for MOSim on palomino4


To the developers/maintainers of the MOSim package:
- Please allow up to 24 hours (and sometimes 48 hours) for your latest push to git@git.bioconductor.org:packages/MOSim.git to
reflect on this report. See How and When does the builder pull? When will my changes propagate? for more information.
- Make sure to use the following settings in order to reproduce any error or warning you see on this page.

raw results

Package 1252/2183HostnameOS / ArchINSTALLBUILDCHECKBUILD BIN
MOSim 1.12.0  (landing page)
Carlos Martínez
Snapshot Date: 2023-03-17 14:00:04 -0400 (Fri, 17 Mar 2023)
git_url: https://git.bioconductor.org/packages/MOSim
git_branch: RELEASE_3_16
git_last_commit: 4a064b1
git_last_commit_date: 2022-11-01 11:20:24 -0400 (Tue, 01 Nov 2022)
nebbiolo2Linux (Ubuntu 20.04.5 LTS) / x86_64  OK    OK    OK  UNNEEDED, same version is already published
palomino4Windows Server 2022 Datacenter / x64  OK    OK    OK    OK  UNNEEDED, same version is already published
lconwaymacOS 12.5.1 Monterey / x86_64  OK    OK    OK    OK  UNNEEDED, same version is already published

Summary

Package: MOSim
Version: 1.12.0
Command: F:\biocbuild\bbs-3.16-bioc\R\bin\R.exe CMD check --no-multiarch --install=check:MOSim.install-out.txt --library=F:\biocbuild\bbs-3.16-bioc\R\library --no-vignettes --timings MOSim_1.12.0.tar.gz
StartedAt: 2023-03-18 03:40:13 -0400 (Sat, 18 Mar 2023)
EndedAt: 2023-03-18 03:48:11 -0400 (Sat, 18 Mar 2023)
EllapsedTime: 477.7 seconds
RetCode: 0
Status:   OK  
CheckDir: MOSim.Rcheck
Warnings: 0

Command output

##############################################################################
##############################################################################
###
### Running command:
###
###   F:\biocbuild\bbs-3.16-bioc\R\bin\R.exe CMD check --no-multiarch --install=check:MOSim.install-out.txt --library=F:\biocbuild\bbs-3.16-bioc\R\library --no-vignettes --timings MOSim_1.12.0.tar.gz
###
##############################################################################
##############################################################################


* using log directory 'F:/biocbuild/bbs-3.16-bioc/meat/MOSim.Rcheck'
* using R version 4.2.2 (2022-10-31 ucrt)
* using platform: x86_64-w64-mingw32 (64-bit)
* using session charset: UTF-8
* using option '--no-vignettes'
* checking for file 'MOSim/DESCRIPTION' ... OK
* this is package 'MOSim' version '1.12.0'
* package encoding: UTF-8
* checking package namespace information ... OK
* checking package dependencies ... OK
* checking if this is a source package ... OK
* checking if there is a namespace ... OK
* checking for hidden files and directories ... OK
* checking for portable file names ... OK
* checking whether package 'MOSim' can be installed ... OK
* checking installed package size ... OK
* checking package directory ... OK
* checking 'build' directory ... OK
* checking DESCRIPTION meta-information ... OK
* checking top-level files ... OK
* checking for left-over files ... OK
* checking index information ... OK
* checking package subdirectories ... OK
* checking R files for non-ASCII characters ... OK
* checking R files for syntax errors ... OK
* checking whether the package can be loaded ... OK
* checking whether the package can be loaded with stated dependencies ... OK
* checking whether the package can be unloaded cleanly ... OK
* checking whether the namespace can be loaded with stated dependencies ... OK
* checking whether the namespace can be unloaded cleanly ... OK
* checking dependencies in R code ... OK
* checking S3 generic/method consistency ... OK
* checking replacement functions ... OK
* checking foreign function calls ... OK
* checking R code for possible problems ... OK
* checking Rd files ... OK
* checking Rd metadata ... OK
* checking Rd cross-references ... OK
* checking for missing documentation entries ... OK
* checking for code/documentation mismatches ... OK
* checking Rd \usage sections ... OK
* checking Rd contents ... OK
* checking for unstated dependencies in examples ... OK
* checking contents of 'data' directory ... OK
* checking data for non-ASCII characters ... OK
* checking data for ASCII and uncompressed saves ... OK
* checking sizes of PDF files under 'inst/doc' ... OK
* checking files in 'vignettes' ... OK
* checking examples ... OK
Examples with CPU (user + system) or elapsed time > 5s
                     user system elapsed
plotProfile        123.52   4.17  127.76
omicSettings       117.17   3.11  120.29
experimentalDesign  36.70   2.83   39.53
mosim               35.99   1.17   37.16
omicResults         36.14   0.59   36.75
* checking for unstated dependencies in 'tests' ... OK
* checking tests ...
  Running 'testthat.R'
 OK
* checking for unstated dependencies in vignettes ... OK
* checking package vignettes in 'inst/doc' ... OK
* checking running R code from vignettes ... SKIPPED
* checking re-building of vignette outputs ... SKIPPED
* checking PDF version of manual ... OK
* DONE

Status: OK


Installation output

MOSim.Rcheck/00install.out

##############################################################################
##############################################################################
###
### Running command:
###
###   F:\biocbuild\bbs-3.16-bioc\R\bin\R.exe CMD INSTALL MOSim
###
##############################################################################
##############################################################################


* installing to library 'F:/biocbuild/bbs-3.16-bioc/R/library'
* installing *source* package 'MOSim' ...
** using staged installation
** R
** data
** byte-compile and prepare package for lazy loading
Creating a new generic function for 'simulate' in package 'MOSim'
** help
*** installing help indices
** building package indices
** installing vignettes
** testing if installed package can be loaded from temporary location
** testing if installed package can be loaded from final location
** testing if installed package keeps a record of temporary installation path
* DONE (MOSim)

Tests output

MOSim.Rcheck/tests/testthat.Rout


R version 4.2.2 (2022-10-31 ucrt) -- "Innocent and Trusting"
Copyright (C) 2022 The R Foundation for Statistical Computing
Platform: x86_64-w64-mingw32/x64 (64-bit)

R is free software and comes with ABSOLUTELY NO WARRANTY.
You are welcome to redistribute it under certain conditions.
Type 'license()' or 'licence()' for distribution details.

R is a collaborative project with many contributors.
Type 'contributors()' for more information and
'citation()' on how to cite R or R packages in publications.

Type 'demo()' for some demos, 'help()' for on-line help, or
'help.start()' for an HTML browser interface to help.
Type 'q()' to quit R.

> library(testthat)
> library(MOSim)
> 
> test_check("MOSim")
Simulation settings of class MOSimulation:
- Default depth: 74
- Total genes: 200
- Dif. expressed genes: 30
- Replicates: 3
- Factor levels (groups): 2
- Time vector length: 5
Simulation settings of class MOSimulation:
- Default depth: 74
- Total genes: 200
- Dif. expressed genes: 30
- Replicates: 3
- Factor levels (groups): 2
- Time vector length: 5
Simulation settings of class MOSimulation:
- Default depth: 74
- Total genes: 20
- Dif. expressed genes: 3
- Replicates: 3
- Factor levels (groups): 2
- Time vector length: 3
Simulation settings of class MOSimulation:
- Default depth: 74
- Total genes: 300
- Dif. expressed genes: 45
- Replicates: 3
- Factor levels (groups): 2
- Time vector length: 5
[ FAIL 0 | WARN 1 | SKIP 1 | PASS 7 ]

══ Skipped tests ═══════════════════════════════════════════════════════════════
• empty test (1)

[ FAIL 0 | WARN 1 | SKIP 1 | PASS 7 ]
> 
> proc.time()
   user  system elapsed 
  20.14    0.50   20.62 

Example timings

MOSim.Rcheck/MOSim-Ex.timings

nameusersystemelapsed
experimentalDesign36.70 2.8339.53
mosim35.99 1.1737.16
omicData2.560.012.57
omicResults36.14 0.5936.75
omicSettings117.17 3.11120.29
omicSim4.330.074.39
plotProfile123.52 4.17127.76